BEGIN:VCALENDAR
VERSION:2.0
BEGIN:VEVENT
UID:E106DD4D-A307-4E8C-AE71-9032D8BAE4F8
DTSTART:20240907T170000Z
DTEND:20240907T193000Z
SUMMARY:Remodel
DESCRIPTION:Relaunch Reception\nGiddens Gallery of Fine Art\n624 South Main
  Street\nGrapevine\, TX 76051 United States\n
LOCATION:624 South Main Street\, Grapevine\, TX 76051
URL:http://grapevine.bubblelife.com/community/giddens_gallery_of_fine_art_i
 n_grapevine/library/35209203/key/3511805551/Remodel
CREATED:20240809T230248Z
LAST-MODIFIED:20240809T230248Z
DTSTAMP:20260423T095236Z
CLASS:PUBLIC
STATUS:CONFIRMED
TRANSP:TRANSPARENT
SEQUENCE:1
END:VEVENT
END:VCALENDAR
