BEGIN:VCALENDAR
VERSION:2.0
BEGIN:VEVENT
UID:434F940A-7C3D-46C2-8894-5B035AA9B224
DTSTART:20240907T170000Z
DTEND:20240907T190000Z
SUMMARY:RELAUNCH RECEPTION
DESCRIPTION:Let us reintroduce our gallery to you!\nGiddens Gallery of Fine
  Art\n624 South Main Street\nGrapevine\, TX 76051 United States\n
LOCATION:624 South Main Street\, Grapevine\, TX 76051
URL:http://grapevine.bubblelife.com/community/giddens_gallery_of_fine_art_i
 n_grapevine/library/35209203/key/3511800270/RELAUNCH_RECEPTION
CREATED:20240815T194910Z
LAST-MODIFIED:20240815T194910Z
DTSTAMP:20260423T095207Z
CLASS:PUBLIC
STATUS:CONFIRMED
TRANSP:TRANSPARENT
SEQUENCE:1
END:VEVENT
END:VCALENDAR
