BEGIN:VCALENDAR
VERSION:2.0
BEGIN:VEVENT
UID:CD1065FC-9C72-4A81-9631-4E51FD840019
DTSTART:20260307T093000Z
DTEND:20260328T113000Z
SUMMARY:Volunteer Saturdays
DESCRIPTION:Hello! \n Volunteer Saturdays  are guaranteed feel-good moments
 . Register to volunteer at House of Shine and put your talents to good use
  in our community. From painting Shine Tokens to helping with fundraising
  prep or jumping in on special projects\, we truly can’t do it without you
 . It will feel good for you\, and it will do good for others. Name of Even
 t \n Volunteer Saturdays Dates / Times \n Saturdays in March 2026 \n March
  7\, 2026 • 9:30 AM – 11:30 AM \n March 14\, 2026 • 9:30 AM – 11:30 AM \n
  March  21\, 2026 • 9:30 AM – 11:30 AM \n March 28\, 2026 • 9:30 AM – 11:3
 0 AM Location \n House of Shine 334 S. Barton Street Grapevine\, TX 76051
  Event Description \nVolunteer Saturdays are hands-on\, come-as-you-are op
 portunities to support House of Shine behind the scenes. Whether you love
  painting\, organizing\, prepping materials\, or helping with special proj
 ects\, there’s a way for you to jump in and make a meaningful impact. What
  to Expect \nWarm welcome + quick orientation when you arrive \nA variety
  of projects (examples may include): \nPainting Shine Tokens \nFundraising
  preparation \nAssembling materials for workshops and programs \nOther beh
 ind-the-scenes projects that help our mission shine \nA chance to connect
  with the House of Shine community while you serve Community Service Hours
  \n Students: community service hours are available. (Please be sure to si
 gn in when you arrive so we can verify hours.) Event Link \nEventbrite:  h
 ttps://www.eventbrite.com/e/1983323334483?aff=oddtdtcreator Cost \nFree to
  volunteer  Age Guidelines \n Ages 5–95 (Children must be accompanied by a
 n adult.) Contact for More Information \nPhone: 817-601-8850 Email:  info@
 houseofshine.com \nWarmly\, House of Shine 817-601-8850 info@houseofshine.
 com www.houseofshine.org\nHouse of Shine\n334 S. Barton Street\nGrapevine\
 , TX 76051 United States\n
LOCATION:334 S. Barton Street\, Grapevine\, TX 76051
URL:http://grapevine.bubblelife.com/community/house_of_shine_inc/library/35
 64077954/key/3511780744/Volunteer_Saturdays
CREATED:20260217T003351Z
LAST-MODIFIED:20260217T003351Z
DTSTAMP:20260423T131301Z
RRULE:FREQ=WEEKLY;WKST=SA;BYDAY=SA
CLASS:PUBLIC
STATUS:CONFIRMED
TRANSP:TRANSPARENT
SEQUENCE:1
END:VEVENT
END:VCALENDAR
