BEGIN:VCALENDAR
VERSION:2.0
BEGIN:VEVENT
UID:2868D209-8BC0-44CF-8BC1-B04009E3073B
DTSTART:20230415T180000Z
DTEND:20230415T210000Z
SUMMARY:Art Reveal Party at Giddens Gallery of Fine Art
DESCRIPTION:Art Reveal Party \n SATURDAY APRIL 15\, 2023 6-9PM \nAs you may
  already know\, we are now hosting bimonthly Art Reveal events where our a
 mazing artists create unique new pieces to reveal at Giddens Gallery for t
 he first time.  We want you to enjoy a beautiful evening filled with Soft
  Background Music\, Wine and Hor d'oeuvres to help us welcome in the stunn
 ing new art! \nGallery Introduction - https://www.youtube.com/watch?v=fSL8
 kmE0mtA&t=22s In this video you will tour the Gallery.  However\, to see t
 he new art\, you’ll have to visit the Gallery on or after the Art Reveal P
 arty. \n Giddens Gallery of Fine Art in Grapevine 624 S Main St Grapevine\
 , TX 76051 817-488-8600 The Premier Art Gallery in Grapevine www.giddensga
 llery.com https://giddensgallery.com/artwork/artists/ \nOpen Tuesday – Sat
 urday from 11am till 6pm Private showings are available by appointment on
  Sundays at 1pm or after\, and Mondays. \nThe gallery exhibits 175+ art pi
 eces at any given time. However\, if you find a particular piece in a prom
 otion or on our Website that you’re coming in to see\, make sure to call f
 irst as we have over 550 pieces that we promote and are listed on the Webs
 ite. \nJoin our Gallery email list -  https://giddensgallery.com/subscribe
 / Originals only. We do not display nor sell prints or reproductions. \nCO
 MMISSIONING ART HAS NEVER BEEN EASIER - https://giddensgallery.com/create-
 your-own/\nGiddens Gallery of Fine Art in Grapevine\n624 S Main St\nGrapev
 ine\, TX 76051 United States\n
LOCATION:624 S Main St\, Grapevine\, TX 76051
URL:http://grapevine.bubblelife.com/community/giddens_gallery_of_fine_art_i
 n_grapevine/library/35209203/key/3511574841/Art_Reveal_Party_at_Giddens_Ga
 llery_of_Fine_Art
CREATED:20230322T210153Z
LAST-MODIFIED:20230322T210153Z
DTSTAMP:20260423T112509Z
CLASS:PUBLIC
STATUS:CONFIRMED
TRANSP:TRANSPARENT
SEQUENCE:1
END:VEVENT
END:VCALENDAR
