BEGIN:VCALENDAR
VERSION:2.0
BEGIN:VEVENT
UID:876E086C-098D-4F26-98B8-292EA88DB15F
DTSTART:20230211T180000Z
DTEND:20230211T210000Z
SUMMARY:Art  From The  Heart / Open Art Event & Reception
DESCRIPTION:Art  From The  Heart Giddens Gallery of Fine Art in Grapevine \
 nCome celebrate the upcoming Valentine's Day with us just a few days early
  on Saturday Feb 11 th at Giddens Gallery of Fine Art in Grapevine.  We ha
 ve a handful of artists that will be on site offering to personalize their
  paintings just for you!!   \nYou will enjoy beautiful art created from ou
 r hearts for you to share with those you love.  Of course\, for the occasi
 on\, we will have some wine\, chocolates and Hor d'oeuvres to enjoy as wel
 l. We hope to see you there. \nGiddens Gallery of Fine Art 624 S. Main St
  Grapevine\, Tx 76054 817-488-8600 www.giddensgallery.com\nGiddens Gallery
  of Fine Art in Grapevine\n624 S Main St\nGrapevine\, TX 76051 United Stat
 es\n
LOCATION:624 S Main St\, Grapevine\, TX 76051
URL:http://grapevine.bubblelife.com/community/giddens_gallery_of_fine_art_i
 n_grapevine/library/35209203/key/3511503900/Art_From_The_Heart_Open_Art_Ev
 ent_Reception
CREATED:20230204T145344Z
LAST-MODIFIED:20230204T145344Z
DTSTAMP:20260423T112548Z
CLASS:PUBLIC
STATUS:CONFIRMED
TRANSP:TRANSPARENT
SEQUENCE:1
END:VEVENT
END:VCALENDAR
