BEGIN:VCALENDAR
VERSION:2.0
BEGIN:VEVENT
UID:2D0B3BDC-5589-4C42-A7EC-6806616623F4
DTSTART:20240210T110000Z
DTEND:20240210T170000Z
SUMMARY:Valentine Edition Paint and Sip
DESCRIPTION:Enjoy an evening with your special person!   Book NOW!  Call 81
 7 488-8600 or email Michele@giddensgallery.com\nGiddens Gallery of Fine Ar
 t\n624 South Main St\nGrapevine\, TX 76051 United States\n
LOCATION:624 South Main St\, Grapevine\, TX 76051
URL:http://grapevine.bubblelife.com/community/giddens_gallery_of_fine_art_i
 n_grapevine/library/35209203/key/3511216311/Valentine_Edition_Paint_and_Si
 p
CREATED:20240125T171021Z
LAST-MODIFIED:20240125T171021Z
DTSTAMP:20260423T112509Z
CLASS:PUBLIC
STATUS:CONFIRMED
TRANSP:TRANSPARENT
SEQUENCE:1
END:VEVENT
END:VCALENDAR
