BEGIN:VCALENDAR
VERSION:2.0
BEGIN:VEVENT
UID:A4A7B27E-0903-4DAA-8DB1-849159B896E2
DTSTART:20220324T110000Z
DTEND:20220402T180000Z
SUMMARY:Kelly Gowan’s RECEPTION & ART SHOW
DESCRIPTION:You are invited Kelly Gowan’s Reception   & Art Show \n “Modern
  Earth” by artist Kelly Gowan \n Free Event \n KELLY’S RECEPTION Saturday\
 , March 26\, 2022 6:00 PM till 9:00 PM Come and meet Kelly Enjoy Kelly’s o
 riginal art work\, Complimentary Wine\, hors d’oeuvres and smiles Addition
 al Event Details - https://bit.ly/3slvsgC Click here for Kelly’s bio \n “I
  would very much like to meet/see you but if you can’t make the reception\
 , I invite you to take the time to enjoy my work during the Show dates.” \
 n KELLY’S SHOW Thursday Mar 24 – Saturday April 2\, 2022 Gallery open Tues
 day – Saturday 11:00am – 6:00pm \nIf you have  never  been to Giddens Gall
 ery you owe it to yourself to visit. You will not be disappointed. https:/
 /giddensgallery.com/about/ \nCOMMISSIONING ART HAS NEVER BEEN EASIER “Crea
 te Your Own” -  https://giddensgallery.com/create-your-own/ \n Giddens Gal
 lery of Fine Art in Grapevine 624 S Main St Grapevine\, TX 76051 817-488-8
 600 www.giddensgallery.com https://www.facebook.com/GiddensGallery https:/
 /www.instagram.com/giddensgallery/ \nDon’t miss the newest art pieces and
  Gallery events. Signup on our email list. https://giddensgallery.com/sign
 up/\nGiddens Gallery of Fine Art in Grapevine\n624 S Main St\nGrapevine\,
  TX 76051 United States\n
LOCATION:624 S Main St\, Grapevine\, TX 76051
URL:http://grapevine.bubblelife.com/community/giddens_gallery_of_fine_art_i
 n_grapevine/library/35209203/key/3511153620/Kelly_Gowans_RECEPTION_ART_SHO
 W
CREATED:20220305T203141Z
LAST-MODIFIED:20220305T203141Z
DTSTAMP:20260423T112507Z
CLASS:PUBLIC
STATUS:CONFIRMED
TRANSP:TRANSPARENT
SEQUENCE:1
END:VEVENT
END:VCALENDAR
