BEGIN:VCALENDAR
VERSION:2.0
BEGIN:VEVENT
UID:7D236DE0-1071-4B71-8576-D2172CDD9C77
DTSTART:20220421T110000Z
DTEND:20220430T180000Z
SUMMARY:Betty Grummer & Betty Watkins RECEPTION & ART SHOW
DESCRIPTION:You are invited Betty Grummer & Betty Watkins Reception   & Art
  Show \n “Happiness Lives In…” by artists Betty Grummer & Betty Watkins \n
 Free Event \n RECEPTION Saturday April 23\, 2022 6:00 PM till 9:00 PM \nCo
 me in and meet the Bettys Enjoy Fine Art\, Complimentary Wine\, Hors d’oeu
 vres and smiles. Click here to see Betty Grummer’s Bio & Work Click here t
 o see Betty Watkins’s Bio & Work Additional Event Details & Parking - http
 s://bit.ly/3KdHOOd \n “ We would very much like to meet/see you at our rec
 eption but if you can’t make it\, we invite you to take the time to enjoy
  our work during the Show dates.” \n SHOW April 21 – April 30\, 2022 Galle
 ry open Tuesday – Saturday 11:00am – 6:00pm \nAsk a friend to come with yo
 u. \nIf you have  never  been to Giddens Gallery you owe it to yourself to
  visit. You will not be disappointed. https://giddensgallery.com/about/ \n
 COMMISSIONING ART HAS NEVER BEEN EASIER “Create Your Own” -  https://gidde
 nsgallery.com/create-your-own/ \n Giddens Gallery of Fine Art in Grapevine
  624 S Main St Grapevine\, TX 76051 817-488-8600 www.giddensgallery.com ht
 tps://www.facebook.com/GiddensGallery https://www.instagram.com/giddensgal
 lery/ \nDon’t miss the newest art pieces and Gallery events. Signup on our
  email list. https://giddensgallery.com/signup/\nGiddens Gallery of Fine A
 rt\n624 S Main St\nGrapevine\, TX 76051 United States\n
LOCATION:624 S Main St\, Grapevine\, TX 76051
URL:http://grapevine.bubblelife.com/community/giddens_gallery_of_fine_art_i
 n_grapevine/library/35209203/key/3511108484/Betty_Grummer_Betty_Watkins_RE
 CEPTION_ART_SHOW
CREATED:20220406T204655Z
LAST-MODIFIED:20220406T204655Z
DTSTAMP:20260423T112509Z
RRULE:FREQ=DAILY;UNTIL=20220430T000000Z;WKST=TH;X-EWSOFTWARE-OCCURONHOL=0
CLASS:PUBLIC
STATUS:CONFIRMED
TRANSP:TRANSPARENT
SEQUENCE:1
END:VEVENT
END:VCALENDAR
