BEGIN:VCALENDAR
VERSION:2.0
BEGIN:VEVENT
UID:A03252E0-171A-43D9-8EAF-27B60807884C
DTSTART:20240207T173000Z
DTEND:20240207T223000Z
SUMMARY:Peace. Love. Shine. Fundraiser -- Galentine's Even
DESCRIPTION:Join House of Shine\, an educational nonprofit based in Grapevi
 ne\, TX\,  for a heartwarming evening of inspiration and celebration at th
 e Peace. Love. Shine. Fundraiser -- an annual Galentine's Event on Wednesd
 ay\, February 7th\, 2024 . \n ABOUT THIS EVENT \nBack by popular demand\,
  our Peace. Love. Shine. Fundraiser is the event of the year that you won'
 t want to miss! \nThis fundraiser is a unique celebration of extraordinary
  women who shine both personally and professionally. Imagine a fusion of G
 alentine's Day and Oprah's Favorite Things \, where you not only discover
  the brilliance of these accomplished women but also receive one of their
  favorite things\, which could range from beauty products to accessories a
 nd household items. It's a night where everyone walks away feeling like a
  winner! \nIn addition to the "favorite things" surprises\, you'll have th
 e chance to bid on exclusive experiences that provide a deeper connection
  with these remarkable women. \nThe atmosphere is electric (this year\, at
  the stunning Glass Cactus) and seating is limited. Based on past years\,
  we anticipate another sold-out event\, so don't wait to secure your seat!
  \nGrab a group of friends and join us as we reveal this year’s Women Who
  Shine and the Things They Love. \n DETAILS   Location: Glass Cactus Check
 -in opens: 5:30 pm Heavy Hors d'oeuvres buffet: 5:30 - 6:30 pm Event kick-
 off: Promptly at 7:00 pm After-event socializing: Until 10:30 pm \nYour ti
 cket includes two beverages\, Heavy Hors d'oeuvres buffet\, and a complime
 ntary "favorite thing" from one of our featured Women Who Shine. \n PURCHA
 SE TICKETS HERE! \n SPONSORSHIP OPPORTUNITIES AVAILABLE Don't miss the opp
 ortunity to make an impact and gain brand awareness. \n HOUSE OF SHINE is
  an educational nonprofit based in Grapevine\, Texas that provides program
 ming and tools to enable people\, organizations and communities to thrive.
 \nGlass Cactus - Gaylord Texan Resort & Convention C\n1501 Gaylord Trail\n
 Grapevine\, TX 76051 United States\n
LOCATION:1501 Gaylord Trail\, Grapevine\, TX 76051
URL:http://grapevine.bubblelife.com/community/house_of_shine_inc/library/35
 64077954/key/3511031221/Peace._Love._Shine._Fundraiser_--_Galentines_Even
CREATED:20231117T032241Z
LAST-MODIFIED:20231117T032241Z
DTSTAMP:20260423T150407Z
CLASS:PUBLIC
STATUS:CONFIRMED
TRANSP:TRANSPARENT
SEQUENCE:1
END:VEVENT
END:VCALENDAR
